BEGIN:VCALENDAR
VERSION:2.0
PRODID:-//Association culture numérique - ECPv6.15.20//NONSGML v1.0//EN
CALSCALE:GREGORIAN
METHOD:PUBLISH
X-ORIGINAL-URL:https://culture-numerique.com
X-WR-CALDESC:Évènements pour Association culture numérique
REFRESH-INTERVAL;VALUE=DURATION:PT1H
X-Robots-Tag:noindex
X-PUBLISHED-TTL:PT1H
BEGIN:VTIMEZONE
TZID:Europe/Helsinki
BEGIN:DAYLIGHT
TZOFFSETFROM:+0200
TZOFFSETTO:+0300
TZNAME:EEST
DTSTART:20240331T010000
END:DAYLIGHT
BEGIN:STANDARD
TZOFFSETFROM:+0300
TZOFFSETTO:+0200
TZNAME:EET
DTSTART:20241027T010000
END:STANDARD
BEGIN:DAYLIGHT
TZOFFSETFROM:+0200
TZOFFSETTO:+0300
TZNAME:EEST
DTSTART:20250330T010000
END:DAYLIGHT
BEGIN:STANDARD
TZOFFSETFROM:+0300
TZOFFSETTO:+0200
TZNAME:EET
DTSTART:20251026T010000
END:STANDARD
BEGIN:DAYLIGHT
TZOFFSETFROM:+0200
TZOFFSETTO:+0300
TZNAME:EEST
DTSTART:20260329T010000
END:DAYLIGHT
BEGIN:STANDARD
TZOFFSETFROM:+0300
TZOFFSETTO:+0200
TZNAME:EET
DTSTART:20261025T010000
END:STANDARD
END:VTIMEZONE
BEGIN:VEVENT
DTSTART;TZID=Europe/Helsinki:20251112T140000
DTEND;TZID=Europe/Helsinki:20251112T160000
DTSTAMP:20260425T184728
CREATED:20251102T124324Z
LAST-MODIFIED:20251102T124324Z
UID:17650-1762956000-1762963200@culture-numerique.com
SUMMARY:Atelier d’aide à la recherche généalogique moderne
DESCRIPTION:
URL:https://culture-numerique.com/agenda/atelier-daide-a-la-recherche-genealogique-moderne-5
LOCATION:Culture numerique\, 32 rue Gaston GRINBAUM\, Vigneux sur Seine\, 91270\, France
END:VEVENT
BEGIN:VEVENT
DTSTART;TZID=Europe/Helsinki:20251112T160000
DTEND;TZID=Europe/Helsinki:20251112T180000
DTSTAMP:20260425T184728
CREATED:20251102T124554Z
LAST-MODIFIED:20251102T124554Z
UID:17658-1762963200-1762970400@culture-numerique.com
SUMMARY:Initiation à l’informatique niveau débutant
DESCRIPTION:
URL:https://culture-numerique.com/agenda/initiation-a-linformatique-niveau-debutant-5
LOCATION:Culture numerique\, 32 rue Gaston GRINBAUM\, Vigneux sur Seine\, 91270\, France
END:VEVENT
BEGIN:VEVENT
DTSTART;TZID=Europe/Helsinki:20251112T180000
DTEND;TZID=Europe/Helsinki:20251112T200000
DTSTAMP:20260425T184728
CREATED:20251102T124818Z
LAST-MODIFIED:20251102T124818Z
UID:17665-1762970400-1762977600@culture-numerique.com
SUMMARY:Initiation à l’informatique niveau perfectionnement
DESCRIPTION:
URL:https://culture-numerique.com/agenda/initiation-a-linformatique-niveau-perfectionnement
LOCATION:Culture numerique\, 32 rue Gaston GRINBAUM\, Vigneux sur Seine\, 91270\, France
END:VEVENT
BEGIN:VEVENT
DTSTART;TZID=Europe/Helsinki:20251112T200000
DTEND;TZID=Europe/Helsinki:20251112T213000
DTSTAMP:20260425T184728
CREATED:20251102T125139Z
LAST-MODIFIED:20251102T125139Z
UID:17673-1762977600-1762983000@culture-numerique.com
SUMMARY:Initiation à la 3D cinématique avec Blender
DESCRIPTION:
URL:https://culture-numerique.com/agenda/initiation-a-la-3d-cinematique-avec-blender-2
LOCATION:Culture numerique\, 32 rue Gaston GRINBAUM\, Vigneux sur Seine\, 91270\, France
END:VEVENT
END:VCALENDAR