BEGIN:VCALENDAR
VERSION:2.0
PRODID:-//Association culture numérique - ECPv6.15.20//NONSGML v1.0//EN
CALSCALE:GREGORIAN
METHOD:PUBLISH
X-WR-CALNAME:Association culture numérique
X-ORIGINAL-URL:https://culture-numerique.com
X-WR-CALDESC:Évènements pour Association culture numérique
REFRESH-INTERVAL;VALUE=DURATION:PT1H
X-Robots-Tag:noindex
X-PUBLISHED-TTL:PT1H
BEGIN:VTIMEZONE
TZID:Europe/Helsinki
BEGIN:DAYLIGHT
TZOFFSETFROM:+0200
TZOFFSETTO:+0300
TZNAME:EEST
DTSTART:20240331T010000
END:DAYLIGHT
BEGIN:STANDARD
TZOFFSETFROM:+0300
TZOFFSETTO:+0200
TZNAME:EET
DTSTART:20241027T010000
END:STANDARD
BEGIN:DAYLIGHT
TZOFFSETFROM:+0200
TZOFFSETTO:+0300
TZNAME:EEST
DTSTART:20250330T010000
END:DAYLIGHT
BEGIN:STANDARD
TZOFFSETFROM:+0300
TZOFFSETTO:+0200
TZNAME:EET
DTSTART:20251026T010000
END:STANDARD
BEGIN:DAYLIGHT
TZOFFSETFROM:+0200
TZOFFSETTO:+0300
TZNAME:EEST
DTSTART:20260329T010000
END:DAYLIGHT
BEGIN:STANDARD
TZOFFSETFROM:+0300
TZOFFSETTO:+0200
TZNAME:EET
DTSTART:20261025T010000
END:STANDARD
END:VTIMEZONE
BEGIN:VEVENT
DTSTART;TZID=Europe/Helsinki:20251126T140000
DTEND;TZID=Europe/Helsinki:20251126T160000
DTSTAMP:20260425T170401
CREATED:20251102T124414Z
LAST-MODIFIED:20251102T124414Z
UID:17654-1764165600-1764172800@culture-numerique.com
SUMMARY:Atelier d’aide à la recherche généalogique moderne
DESCRIPTION:
URL:https://culture-numerique.com/agenda/atelier-daide-a-la-recherche-genealogique-moderne-7
LOCATION:Culture numerique\, 32 rue Gaston GRINBAUM\, Vigneux sur Seine\, 91270\, France
END:VEVENT
BEGIN:VEVENT
DTSTART;TZID=Europe/Helsinki:20251126T160000
DTEND;TZID=Europe/Helsinki:20251126T180000
DTSTAMP:20260425T170401
CREATED:20251102T125654Z
LAST-MODIFIED:20251102T125654Z
UID:17683-1764172800-1764180000@culture-numerique.com
SUMMARY:Initiation à l’informatique niveau débutant
DESCRIPTION:
URL:https://culture-numerique.com/agenda/initiation-a-linformatique-niveau-debutant-8
LOCATION:Culture numerique\, 32 rue Gaston GRINBAUM\, Vigneux sur Seine\, 91270\, France
END:VEVENT
BEGIN:VEVENT
DTSTART;TZID=Europe/Helsinki:20251126T180000
DTEND;TZID=Europe/Helsinki:20251126T200000
DTSTAMP:20260425T170401
CREATED:20251102T124845Z
LAST-MODIFIED:20251102T124845Z
UID:17667-1764180000-1764187200@culture-numerique.com
SUMMARY:Initiation à l’informatique niveau perfectionnement
DESCRIPTION:
URL:https://culture-numerique.com/agenda/initiation-a-linformatique-niveau-perfectionnement-2
LOCATION:Culture numerique\, 32 rue Gaston GRINBAUM\, Vigneux sur Seine\, 91270\, France
END:VEVENT
BEGIN:VEVENT
DTSTART;TZID=Europe/Helsinki:20251126T200000
DTEND;TZID=Europe/Helsinki:20251126T213000
DTSTAMP:20260425T170401
CREATED:20251102T125234Z
LAST-MODIFIED:20251102T125234Z
UID:17677-1764187200-1764192600@culture-numerique.com
SUMMARY:Initiation à la 3D cinématique avec Blender
DESCRIPTION:
URL:https://culture-numerique.com/agenda/initiation-a-la-3d-cinematique-avec-blender-4
LOCATION:Culture numerique\, 32 rue Gaston GRINBAUM\, Vigneux sur Seine\, 91270\, France
END:VEVENT
END:VCALENDAR