BEGIN:VCALENDAR
VERSION:2.0
PRODID:-//Association culture numérique - ECPv6.15.20//NONSGML v1.0//EN
CALSCALE:GREGORIAN
METHOD:PUBLISH
X-WR-CALNAME:Association culture numérique
X-ORIGINAL-URL:https://culture-numerique.com
X-WR-CALDESC:Évènements pour Association culture numérique
REFRESH-INTERVAL;VALUE=DURATION:PT1H
X-Robots-Tag:noindex
X-PUBLISHED-TTL:PT1H
BEGIN:VTIMEZONE
TZID:Europe/Helsinki
BEGIN:DAYLIGHT
TZOFFSETFROM:+0200
TZOFFSETTO:+0300
TZNAME:EEST
DTSTART:20240331T010000
END:DAYLIGHT
BEGIN:STANDARD
TZOFFSETFROM:+0300
TZOFFSETTO:+0200
TZNAME:EET
DTSTART:20241027T010000
END:STANDARD
BEGIN:DAYLIGHT
TZOFFSETFROM:+0200
TZOFFSETTO:+0300
TZNAME:EEST
DTSTART:20250330T010000
END:DAYLIGHT
BEGIN:STANDARD
TZOFFSETFROM:+0300
TZOFFSETTO:+0200
TZNAME:EET
DTSTART:20251026T010000
END:STANDARD
BEGIN:DAYLIGHT
TZOFFSETFROM:+0200
TZOFFSETTO:+0300
TZNAME:EEST
DTSTART:20260329T010000
END:DAYLIGHT
BEGIN:STANDARD
TZOFFSETFROM:+0300
TZOFFSETTO:+0200
TZNAME:EET
DTSTART:20261025T010000
END:STANDARD
END:VTIMEZONE
BEGIN:VEVENT
DTSTART;TZID=Europe/Helsinki:20251129T100000
DTEND;TZID=Europe/Helsinki:20251129T180000
DTSTAMP:20260425T184213
CREATED:20251102T123822Z
LAST-MODIFIED:20251102T123822Z
UID:17640-1764410400-1764439200@culture-numerique.com
SUMMARY:Atelier "FabLab"
DESCRIPTION:
URL:https://culture-numerique.com/agenda/atelier-fablab-4
LOCATION:Culture numerique\, 32 rue Gaston GRINBAUM\, Vigneux sur Seine\, 91270\, France
END:VEVENT
BEGIN:VEVENT
DTSTART;TZID=Europe/Helsinki:20251129T123000
DTEND;TZID=Europe/Helsinki:20251129T163000
DTSTAMP:20260425T184213
CREATED:20251128T131727Z
LAST-MODIFIED:20251128T131727Z
UID:17774-1764419400-1764433800@culture-numerique.com
SUMMARY:Activité solidaire “Repair café” à la Médiathèque Charlotte DELBO de Vigneux
DESCRIPTION:
URL:https://culture-numerique.com/agenda/activite-solidaire-repair-cafe-a-la-mediatheque-charlotte-delbo-de-vigneux
LOCATION:Culture numerique\, 32 rue Gaston GRINBAUM\, Vigneux sur Seine\, 91270\, France
ORGANIZER;CN="Thierry":MAILTO:t.belvigne@free.fr
END:VEVENT
BEGIN:VEVENT
DTSTART;TZID=Europe/Helsinki:20251129T140000
DTEND;TZID=Europe/Helsinki:20251129T160000
DTSTAMP:20260425T184213
CREATED:20251004T170650Z
LAST-MODIFIED:20251102T122644Z
UID:17386-1764424800-1764432000@culture-numerique.com
SUMMARY:Initiation à la création 3D avec TinkerCad groupe 1
DESCRIPTION:
URL:https://culture-numerique.com/agenda/initiation-a-la-creation-3d-avec-tinkercad-8
LOCATION:Culture numerique\, 32 rue Gaston GRINBAUM\, Vigneux sur Seine\, 91270\, France
END:VEVENT
BEGIN:VEVENT
DTSTART;TZID=Europe/Helsinki:20251129T160000
DTEND;TZID=Europe/Helsinki:20251129T180000
DTSTAMP:20260425T184213
CREATED:20251102T122827Z
LAST-MODIFIED:20251102T122827Z
UID:17611-1764432000-1764439200@culture-numerique.com
SUMMARY:Initiation à la création 3D avec TinkerCad groupe 2
DESCRIPTION:
URL:https://culture-numerique.com/agenda/initiation-a-la-creation-3d-avec-tinkercad-groupe-2-3
LOCATION:Culture numerique\, 32 rue Gaston GRINBAUM\, Vigneux sur Seine\, 91270\, France
END:VEVENT
END:VCALENDAR