BEGIN:VCALENDAR
VERSION:2.0
PRODID:-//Association culture numérique - ECPv6.15.20//NONSGML v1.0//EN
CALSCALE:GREGORIAN
METHOD:PUBLISH
X-WR-CALNAME:Association culture numérique
X-ORIGINAL-URL:https://culture-numerique.com
X-WR-CALDESC:Évènements pour Association culture numérique
REFRESH-INTERVAL;VALUE=DURATION:PT1H
X-Robots-Tag:noindex
X-PUBLISHED-TTL:PT1H
BEGIN:VTIMEZONE
TZID:Europe/Helsinki
BEGIN:DAYLIGHT
TZOFFSETFROM:+0200
TZOFFSETTO:+0300
TZNAME:EEST
DTSTART:20250330T010000
END:DAYLIGHT
BEGIN:STANDARD
TZOFFSETFROM:+0300
TZOFFSETTO:+0200
TZNAME:EET
DTSTART:20251026T010000
END:STANDARD
BEGIN:DAYLIGHT
TZOFFSETFROM:+0200
TZOFFSETTO:+0300
TZNAME:EEST
DTSTART:20260329T010000
END:DAYLIGHT
BEGIN:STANDARD
TZOFFSETFROM:+0300
TZOFFSETTO:+0200
TZNAME:EET
DTSTART:20261025T010000
END:STANDARD
BEGIN:DAYLIGHT
TZOFFSETFROM:+0200
TZOFFSETTO:+0300
TZNAME:EEST
DTSTART:20270328T010000
END:DAYLIGHT
BEGIN:STANDARD
TZOFFSETFROM:+0300
TZOFFSETTO:+0200
TZNAME:EET
DTSTART:20271031T010000
END:STANDARD
END:VTIMEZONE
BEGIN:VEVENT
DTSTART;VALUE=DATE:20260105
DTEND;VALUE=DATE:20260111
DTSTAMP:20260423T144202
CREATED:20260111T120800Z
LAST-MODIFIED:20260111T120800Z
UID:18110-1767607200-1768039199@culture-numerique.com
SUMMARY:Annulation des initiations suite aux conditions météo.
DESCRIPTION:
URL:https://culture-numerique.com/agenda/annulation-des-initiations-suite-aux-conditions-meteo
LOCATION:Culture numerique\, 32 rue Gaston GRINBAUM\, Vigneux sur Seine\, 91270\, France
ORGANIZER;CN="Thierry":MAILTO:t.belvigne@free.fr
END:VEVENT
BEGIN:VEVENT
DTSTART;TZID=Europe/Helsinki:20260106T183000
DTEND;TZID=Europe/Helsinki:20260106T200000
DTSTAMP:20260423T144202
CREATED:20251230T092004Z
LAST-MODIFIED:20251230T092004Z
UID:17891-1767724200-1767729600@culture-numerique.com
SUMMARY:Initiation à Libre Office – CALC
DESCRIPTION:
URL:https://culture-numerique.com/agenda/initiation-a-libre-office-calc-7
LOCATION:Culture numerique\, 32 rue Gaston GRINBAUM\, Vigneux sur Seine\, 91270\, France
ORGANIZER;CN="Thierry":MAILTO:t.belvigne@free.fr
END:VEVENT
BEGIN:VEVENT
DTSTART;TZID=Europe/Helsinki:20260106T200000
DTEND;TZID=Europe/Helsinki:20260106T213000
DTSTAMP:20260423T144202
CREATED:20251230T100030Z
LAST-MODIFIED:20251230T100030Z
UID:17945-1767729600-1767735000@culture-numerique.com
SUMMARY:Initiation à la création de site Web sur WordPress
DESCRIPTION:
URL:https://culture-numerique.com/agenda/initiation-a-la-creation-de-site-web-sur-wordpress-8
LOCATION:Culture numerique\, 32 rue Gaston GRINBAUM\, Vigneux sur Seine\, 91270\, France
END:VEVENT
END:VCALENDAR