BEGIN:VCALENDAR
VERSION:2.0
PRODID:-//Association culture numérique - ECPv6.15.20//NONSGML v1.0//EN
CALSCALE:GREGORIAN
METHOD:PUBLISH
X-ORIGINAL-URL:https://culture-numerique.com
X-WR-CALDESC:Évènements pour Association culture numérique
REFRESH-INTERVAL;VALUE=DURATION:PT1H
X-Robots-Tag:noindex
X-PUBLISHED-TTL:PT1H
BEGIN:VTIMEZONE
TZID:Europe/Helsinki
BEGIN:DAYLIGHT
TZOFFSETFROM:+0200
TZOFFSETTO:+0300
TZNAME:EEST
DTSTART:20250330T010000
END:DAYLIGHT
BEGIN:STANDARD
TZOFFSETFROM:+0300
TZOFFSETTO:+0200
TZNAME:EET
DTSTART:20251026T010000
END:STANDARD
BEGIN:DAYLIGHT
TZOFFSETFROM:+0200
TZOFFSETTO:+0300
TZNAME:EEST
DTSTART:20260329T010000
END:DAYLIGHT
BEGIN:STANDARD
TZOFFSETFROM:+0300
TZOFFSETTO:+0200
TZNAME:EET
DTSTART:20261025T010000
END:STANDARD
BEGIN:DAYLIGHT
TZOFFSETFROM:+0200
TZOFFSETTO:+0300
TZNAME:EEST
DTSTART:20270328T010000
END:DAYLIGHT
BEGIN:STANDARD
TZOFFSETFROM:+0300
TZOFFSETTO:+0200
TZNAME:EET
DTSTART:20271031T010000
END:STANDARD
END:VTIMEZONE
BEGIN:VEVENT
DTSTART;TZID=Europe/Helsinki:20260110T100000
DTEND;TZID=Europe/Helsinki:20260110T120000
DTSTAMP:20260425T134038
CREATED:20251230T102858Z
LAST-MODIFIED:20251230T102858Z
UID:17991-1768039200-1768046400@culture-numerique.com
SUMMARY:Initiation à la robotique sur Arduino Uno groupe 1
DESCRIPTION:
URL:https://culture-numerique.com/agenda/initiation-a-la-robotique-sur-arduino-uno-groupe-1-4
LOCATION:Culture numerique\, 32 rue Gaston GRINBAUM\, Vigneux sur Seine\, 91270\, France
ORGANIZER;CN="Thierry":MAILTO:t.belvigne@free.fr
END:VEVENT
BEGIN:VEVENT
DTSTART;TZID=Europe/Helsinki:20260110T100000
DTEND;TZID=Europe/Helsinki:20260110T160000
DTSTAMP:20260425T134038
CREATED:20251230T093808Z
LAST-MODIFIED:20251230T093808Z
UID:17911-1768039200-1768060800@culture-numerique.com
SUMMARY:Atelier créatif “FabLab”
DESCRIPTION:
URL:https://culture-numerique.com/agenda/atelier-creatif-fablab-2
LOCATION:Culture numerique\, 32 rue Gaston GRINBAUM\, Vigneux sur Seine\, 91270\, France
END:VEVENT
BEGIN:VEVENT
DTSTART;TZID=Europe/Helsinki:20260110T140000
DTEND;TZID=Europe/Helsinki:20260110T160000
DTSTAMP:20260425T134038
CREATED:20251230T102428Z
LAST-MODIFIED:20251230T102428Z
UID:17981-1768053600-1768060800@culture-numerique.com
SUMMARY:Initiation au montage vidéo sur PC
DESCRIPTION:
URL:https://culture-numerique.com/agenda/initiation-au-montage-video-sur-pc
LOCATION:Culture numerique\, 32 rue Gaston GRINBAUM\, Vigneux sur Seine\, 91270\, France
END:VEVENT
BEGIN:VEVENT
DTSTART;TZID=Europe/Helsinki:20260110T160000
DTEND;TZID=Europe/Helsinki:20260110T180000
DTSTAMP:20260425T134038
CREATED:20251230T093907Z
LAST-MODIFIED:20251230T094733Z
UID:17913-1768060800-1768068000@culture-numerique.com
SUMMARY:Reception Galettes des rois réservé aux adhérents
DESCRIPTION:
URL:https://culture-numerique.com/agenda/reception-galettes-des-rois-reserve-aux-adherents
LOCATION:Culture numerique\, 32 rue Gaston GRINBAUM\, Vigneux sur Seine\, 91270\, France
ORGANIZER;CN="Thierry":MAILTO:t.belvigne@free.fr
END:VEVENT
END:VCALENDAR