BEGIN:VCALENDAR
VERSION:2.0
PRODID:-//Association culture numérique - ECPv6.15.20//NONSGML v1.0//EN
CALSCALE:GREGORIAN
METHOD:PUBLISH
X-WR-CALNAME:Association culture numérique
X-ORIGINAL-URL:https://culture-numerique.com
X-WR-CALDESC:Évènements pour Association culture numérique
REFRESH-INTERVAL;VALUE=DURATION:PT1H
X-Robots-Tag:noindex
X-PUBLISHED-TTL:PT1H
BEGIN:VTIMEZONE
TZID:Europe/Helsinki
BEGIN:DAYLIGHT
TZOFFSETFROM:+0200
TZOFFSETTO:+0300
TZNAME:EEST
DTSTART:20250330T010000
END:DAYLIGHT
BEGIN:STANDARD
TZOFFSETFROM:+0300
TZOFFSETTO:+0200
TZNAME:EET
DTSTART:20251026T010000
END:STANDARD
BEGIN:DAYLIGHT
TZOFFSETFROM:+0200
TZOFFSETTO:+0300
TZNAME:EEST
DTSTART:20260329T010000
END:DAYLIGHT
BEGIN:STANDARD
TZOFFSETFROM:+0300
TZOFFSETTO:+0200
TZNAME:EET
DTSTART:20261025T010000
END:STANDARD
BEGIN:DAYLIGHT
TZOFFSETFROM:+0200
TZOFFSETTO:+0300
TZNAME:EEST
DTSTART:20270328T010000
END:DAYLIGHT
BEGIN:STANDARD
TZOFFSETFROM:+0300
TZOFFSETTO:+0200
TZNAME:EET
DTSTART:20271031T010000
END:STANDARD
END:VTIMEZONE
BEGIN:VEVENT
DTSTART;TZID=Europe/Helsinki:20260113T183000
DTEND;TZID=Europe/Helsinki:20260113T200000
DTSTAMP:20260423T144326
CREATED:20251230T092037Z
LAST-MODIFIED:20251230T092037Z
UID:17893-1768329000-1768334400@culture-numerique.com
SUMMARY:Initiation à Libre Office – CALC
DESCRIPTION:
URL:https://culture-numerique.com/agenda/initiation-a-libre-office-calc-8
LOCATION:Culture numerique\, 32 rue Gaston GRINBAUM\, Vigneux sur Seine\, 91270\, France
ORGANIZER;CN="Thierry":MAILTO:t.belvigne@free.fr
END:VEVENT
BEGIN:VEVENT
DTSTART;TZID=Europe/Helsinki:20260113T200000
DTEND;TZID=Europe/Helsinki:20260113T213000
DTSTAMP:20260423T144326
CREATED:20251230T095809Z
LAST-MODIFIED:20260111T121010Z
UID:17938-1768334400-1768339800@culture-numerique.com
SUMMARY:Initiation à la création de site Web sur WordPress
DESCRIPTION:
URL:https://culture-numerique.com/agenda/creation-3d-avec-fusion-360-niveau-perfectionnement
LOCATION:Culture numerique\, 32 rue Gaston GRINBAUM\, Vigneux sur Seine\, 91270\, France
END:VEVENT
END:VCALENDAR