BEGIN:VCALENDAR
VERSION:2.0
PRODID:-//Association culture numérique - ECPv6.15.20//NONSGML v1.0//EN
CALSCALE:GREGORIAN
METHOD:PUBLISH
X-ORIGINAL-URL:https://culture-numerique.com
X-WR-CALDESC:Évènements pour Association culture numérique
REFRESH-INTERVAL;VALUE=DURATION:PT1H
X-Robots-Tag:noindex
X-PUBLISHED-TTL:PT1H
BEGIN:VTIMEZONE
TZID:Europe/Helsinki
BEGIN:DAYLIGHT
TZOFFSETFROM:+0200
TZOFFSETTO:+0300
TZNAME:EEST
DTSTART:20250330T010000
END:DAYLIGHT
BEGIN:STANDARD
TZOFFSETFROM:+0300
TZOFFSETTO:+0200
TZNAME:EET
DTSTART:20251026T010000
END:STANDARD
BEGIN:DAYLIGHT
TZOFFSETFROM:+0200
TZOFFSETTO:+0300
TZNAME:EEST
DTSTART:20260329T010000
END:DAYLIGHT
BEGIN:STANDARD
TZOFFSETFROM:+0300
TZOFFSETTO:+0200
TZNAME:EET
DTSTART:20261025T010000
END:STANDARD
BEGIN:DAYLIGHT
TZOFFSETFROM:+0200
TZOFFSETTO:+0300
TZNAME:EEST
DTSTART:20270328T010000
END:DAYLIGHT
BEGIN:STANDARD
TZOFFSETFROM:+0300
TZOFFSETTO:+0200
TZNAME:EET
DTSTART:20271031T010000
END:STANDARD
END:VTIMEZONE
BEGIN:VEVENT
DTSTART;TZID=Europe/Helsinki:20260321T091500
DTEND;TZID=Europe/Helsinki:20260321T123000
DTSTAMP:20260421T135517
CREATED:20260202T164801Z
LAST-MODIFIED:20260202T164801Z
UID:18273-1774084500-1774096200@culture-numerique.com
SUMMARY:Activité solidaire "Repair café" sur RDV
DESCRIPTION:
URL:https://culture-numerique.com/agenda/activite-solidaire-repair-cafe-sur-rdv-3
LOCATION:Culture numerique\, 32 rue Gaston GRINBAUM\, Vigneux sur Seine\, 91270\, France
ORGANIZER;CN="Thierry":MAILTO:t.belvigne@free.fr
END:VEVENT
BEGIN:VEVENT
DTSTART;TZID=Europe/Helsinki:20260321T100000
DTEND;TZID=Europe/Helsinki:20260321T120000
DTSTAMP:20260421T135517
CREATED:20260302T164245Z
LAST-MODIFIED:20260302T164245Z
UID:18528-1774087200-1774094400@culture-numerique.com
SUMMARY:Atelier technique photo en extérieur
DESCRIPTION:
URL:https://culture-numerique.com/agenda/atelier-technique-photo-en-exterieur-5
LOCATION:Culture numerique\, 32 rue Gaston GRINBAUM\, Vigneux sur Seine\, 91270\, France
END:VEVENT
BEGIN:VEVENT
DTSTART;TZID=Europe/Helsinki:20260321T100000
DTEND;TZID=Europe/Helsinki:20260321T120000
DTSTAMP:20260421T135517
CREATED:20260302T175512Z
LAST-MODIFIED:20260302T175512Z
UID:18595-1774087200-1774094400@culture-numerique.com
SUMMARY:Initiation à la robotique sur Arduino Uno groupe 1
DESCRIPTION:
URL:https://culture-numerique.com/agenda/initiation-a-la-robotique-sur-arduino-uno-groupe-1-10
LOCATION:Culture numerique\, 32 rue Gaston GRINBAUM\, Vigneux sur Seine\, 91270\, France
ORGANIZER;CN="Thierry":MAILTO:t.belvigne@free.fr
END:VEVENT
BEGIN:VEVENT
DTSTART;TZID=Europe/Helsinki:20260321T100000
DTEND;TZID=Europe/Helsinki:20260321T180000
DTSTAMP:20260421T135517
CREATED:20260202T165136Z
LAST-MODIFIED:20260202T165136Z
UID:18283-1774087200-1774116000@culture-numerique.com
SUMMARY:Atelier créatif “FabLab”
DESCRIPTION:
URL:https://culture-numerique.com/agenda/atelier-creatif-fablab-12
LOCATION:Culture numerique\, 32 rue Gaston GRINBAUM\, Vigneux sur Seine\, 91270\, France
END:VEVENT
BEGIN:VEVENT
DTSTART;TZID=Europe/Helsinki:20260321T140000
DTEND;TZID=Europe/Helsinki:20260321T160000
DTSTAMP:20260421T135517
CREATED:20260302T175646Z
LAST-MODIFIED:20260320T090612Z
UID:18597-1774101600-1774108800@culture-numerique.com
SUMMARY:Technique acquisition/conversion vidéo analogique
DESCRIPTION:
URL:https://culture-numerique.com/agenda/technique-acquisition-conversion-video-analogique
LOCATION:Culture numerique\, 32 rue Gaston GRINBAUM\, Vigneux sur Seine\, 91270\, France
END:VEVENT
BEGIN:VEVENT
DTSTART;TZID=Europe/Helsinki:20260321T160000
DTEND;TZID=Europe/Helsinki:20260321T180000
DTSTAMP:20260421T135517
CREATED:20260320T090822Z
LAST-MODIFIED:20260320T090822Z
UID:18635-1774108800-1774116000@culture-numerique.com
SUMMARY:Initiation aux réseaux informatique (Wifi / Ethernet / 5G)
DESCRIPTION:
URL:https://culture-numerique.com/agenda/initiation-aux-reseaux-informatique-wifi-ethernet-5g-5
LOCATION:Culture numerique\, 32 rue Gaston GRINBAUM\, Vigneux sur Seine\, 91270\, France
ORGANIZER;CN="Thierry":MAILTO:t.belvigne@free.fr
END:VEVENT
END:VCALENDAR