BEGIN:VCALENDAR
VERSION:2.0
PRODID:-//Association culture numérique - ECPv6.15.20//NONSGML v1.0//EN
CALSCALE:GREGORIAN
METHOD:PUBLISH
X-WR-CALNAME:Association culture numérique
X-ORIGINAL-URL:https://culture-numerique.com
X-WR-CALDESC:Évènements pour Association culture numérique
REFRESH-INTERVAL;VALUE=DURATION:PT1H
X-Robots-Tag:noindex
X-PUBLISHED-TTL:PT1H
BEGIN:VTIMEZONE
TZID:Europe/Helsinki
BEGIN:DAYLIGHT
TZOFFSETFROM:+0200
TZOFFSETTO:+0300
TZNAME:EEST
DTSTART:20250330T010000
END:DAYLIGHT
BEGIN:STANDARD
TZOFFSETFROM:+0300
TZOFFSETTO:+0200
TZNAME:EET
DTSTART:20251026T010000
END:STANDARD
BEGIN:DAYLIGHT
TZOFFSETFROM:+0200
TZOFFSETTO:+0300
TZNAME:EEST
DTSTART:20260329T010000
END:DAYLIGHT
BEGIN:STANDARD
TZOFFSETFROM:+0300
TZOFFSETTO:+0200
TZNAME:EET
DTSTART:20261025T010000
END:STANDARD
BEGIN:DAYLIGHT
TZOFFSETFROM:+0200
TZOFFSETTO:+0300
TZNAME:EEST
DTSTART:20270328T010000
END:DAYLIGHT
BEGIN:STANDARD
TZOFFSETFROM:+0300
TZOFFSETTO:+0200
TZNAME:EET
DTSTART:20271031T010000
END:STANDARD
END:VTIMEZONE
BEGIN:VEVENT
DTSTART;TZID=Europe/Helsinki:20260411T090000
DTEND;TZID=Europe/Helsinki:20260411T180000
DTSTAMP:20260421T134921
CREATED:20260302T171147Z
LAST-MODIFIED:20260302T171147Z
UID:18578-1775898000-1775930400@culture-numerique.com
SUMMARY:Concours robotique "Planète Sciences" à Savigny le temple
DESCRIPTION:
URL:https://culture-numerique.com/agenda/concours-robotique-planete-sciences-a-savigny-le-temple
LOCATION:Savigny le temple\, France
ORGANIZER;CN="Thierry":MAILTO:t.belvigne@free.fr
END:VEVENT
BEGIN:VEVENT
DTSTART;VALUE=DATE:20260411
DTEND;VALUE=DATE:20260413
DTSTAMP:20260421T134921
CREATED:20260401T174903Z
LAST-MODIFIED:20260401T175504Z
UID:18710-1775901600-1775987999@culture-numerique.com
SUMMARY:Fermeture exceptionnelle
DESCRIPTION:
URL:https://culture-numerique.com/agenda/fermeture-exceptionnelle
END:VEVENT
BEGIN:VEVENT
DTSTART;TZID=Europe/Helsinki:20260411T110000
DTEND;TZID=Europe/Helsinki:20260411T130000
DTSTAMP:20260421T134921
CREATED:20260302T171302Z
LAST-MODIFIED:20260302T171302Z
UID:18581-1775905200-1775912400@culture-numerique.com
SUMMARY:Conférence " I.A générative" à la Médiathèque d'épinay
DESCRIPTION:
URL:https://culture-numerique.com/agenda/conference-i-a-generative-a-la-mediatheque-depinay
LOCATION:Epinay\, 4A rue Rossini\, Epinay sous Senart\, 91860\, France
END:VEVENT
END:VCALENDAR