BEGIN:VCALENDAR
VERSION:2.0
PRODID:-//Association culture numérique - ECPv6.15.20//NONSGML v1.0//EN
CALSCALE:GREGORIAN
METHOD:PUBLISH
X-WR-CALNAME:Association culture numérique
X-ORIGINAL-URL:https://culture-numerique.com
X-WR-CALDESC:Évènements pour Association culture numérique
REFRESH-INTERVAL;VALUE=DURATION:PT1H
X-Robots-Tag:noindex
X-PUBLISHED-TTL:PT1H
BEGIN:VTIMEZONE
TZID:Europe/Helsinki
BEGIN:DAYLIGHT
TZOFFSETFROM:+0200
TZOFFSETTO:+0300
TZNAME:EEST
DTSTART:20240331T010000
END:DAYLIGHT
BEGIN:STANDARD
TZOFFSETFROM:+0300
TZOFFSETTO:+0200
TZNAME:EET
DTSTART:20241027T010000
END:STANDARD
BEGIN:DAYLIGHT
TZOFFSETFROM:+0200
TZOFFSETTO:+0300
TZNAME:EEST
DTSTART:20250330T010000
END:DAYLIGHT
BEGIN:STANDARD
TZOFFSETFROM:+0300
TZOFFSETTO:+0200
TZNAME:EET
DTSTART:20251026T010000
END:STANDARD
BEGIN:DAYLIGHT
TZOFFSETFROM:+0200
TZOFFSETTO:+0300
TZNAME:EEST
DTSTART:20260329T010000
END:DAYLIGHT
BEGIN:STANDARD
TZOFFSETFROM:+0300
TZOFFSETTO:+0200
TZNAME:EET
DTSTART:20261025T010000
END:STANDARD
END:VTIMEZONE
BEGIN:VEVENT
DTSTART;TZID=Europe/Helsinki:20251001T160000
DTEND;TZID=Europe/Helsinki:20251001T180000
DTSTAMP:20260425T184223
CREATED:20250910T174259Z
LAST-MODIFIED:20250910T174259Z
UID:17213-1759334400-1759341600@culture-numerique.com
SUMMARY:Initiation à l'informatique niveau débutant
DESCRIPTION:
URL:https://culture-numerique.com/agenda/initiation-a-linformatique-niveau-debutant-2
LOCATION:Culture numerique\, 32 rue Gaston GRINBAUM\, Vigneux sur Seine\, 91270\, France
END:VEVENT
BEGIN:VEVENT
DTSTART;TZID=Europe/Helsinki:20251001T180000
DTEND;TZID=Europe/Helsinki:20251001T200000
DTSTAMP:20260425T184223
CREATED:20250910T174105Z
LAST-MODIFIED:20250910T174105Z
UID:17207-1759341600-1759348800@culture-numerique.com
SUMMARY:Atelier d'aide à la recherche généalogique moderne
DESCRIPTION:
URL:https://culture-numerique.com/agenda/atelier-daide-a-la-recherche-genealogique-moderne-2
LOCATION:Culture numerique\, 32 rue Gaston GRINBAUM\, Vigneux sur Seine\, 91270\, France
END:VEVENT
BEGIN:VEVENT
DTSTART;TZID=Europe/Helsinki:20251001T200000
DTEND;TZID=Europe/Helsinki:20251001T213000
DTSTAMP:20260425T184223
CREATED:20250927T183736Z
LAST-MODIFIED:20250927T183736Z
UID:17352-1759348800-1759354200@culture-numerique.com
SUMMARY:Initiation à Blender 3D débutant
DESCRIPTION:
URL:https://culture-numerique.com/agenda/initiation-a-blender-3d-debutant
LOCATION:Culture numerique\, 32 rue Gaston GRINBAUM\, Vigneux sur Seine\, 91270\, France
END:VEVENT
BEGIN:VEVENT
DTSTART;TZID=Europe/Helsinki:20251003T183000
DTEND;TZID=Europe/Helsinki:20251003T200000
DTSTAMP:20260425T184223
CREATED:20250921T145702Z
LAST-MODIFIED:20250927T183832Z
UID:17325-1759516200-1759521600@culture-numerique.com
SUMMARY:Atelier technique imprimante 3D
DESCRIPTION:
URL:https://culture-numerique.com/agenda/atelier-technique-imprimante-3d-5
LOCATION:Culture numerique\, 32 rue Gaston GRINBAUM\, Vigneux sur Seine\, 91270\, France
ORGANIZER;CN="Thierry":MAILTO:t.belvigne@free.fr
END:VEVENT
BEGIN:VEVENT
DTSTART;TZID=Europe/Helsinki:20251003T200000
DTEND;TZID=Europe/Helsinki:20251003T213000
DTSTAMP:20260425T184223
CREATED:20250921T143554Z
LAST-MODIFIED:20250921T143554Z
UID:17322-1759521600-1759527000@culture-numerique.com
SUMMARY:Cours electricité/electronique
DESCRIPTION:
URL:https://culture-numerique.com/agenda/cours-electricite-electronique
LOCATION:Culture numerique\, 32 rue Gaston GRINBAUM\, Vigneux sur Seine\, 91270\, France
ORGANIZER;CN="Thierry":MAILTO:t.belvigne@free.fr
END:VEVENT
BEGIN:VEVENT
DTSTART;TZID=Europe/Helsinki:20251004T100000
DTEND;TZID=Europe/Helsinki:20251004T120000
DTSTAMP:20260425T184223
CREATED:20250910T175006Z
LAST-MODIFIED:20250927T183931Z
UID:17229-1759572000-1759579200@culture-numerique.com
SUMMARY:Initiation à la robotique sur Arduino Uno Groupe 1
DESCRIPTION:
URL:https://culture-numerique.com/agenda/initiation-a-la-robotique-sur-arduino-uno-2
LOCATION:Culture numerique\, 32 rue Gaston GRINBAUM\, Vigneux sur Seine\, 91270\, France
ORGANIZER;CN="Thierry":MAILTO:t.belvigne@free.fr
END:VEVENT
BEGIN:VEVENT
DTSTART;TZID=Europe/Helsinki:20251004T100000
DTEND;TZID=Europe/Helsinki:20251004T180000
DTSTAMP:20260425T184223
CREATED:20250910T173608Z
LAST-MODIFIED:20250910T173608Z
UID:17191-1759572000-1759600800@culture-numerique.com
SUMMARY:Ouverture FABLAB pour tous - Ateliers créatifs
DESCRIPTION:
URL:https://culture-numerique.com/agenda/ouverture-fablab-pour-tous-ateliers-creatifs-3
LOCATION:Culture numerique\, 32 rue Gaston GRINBAUM\, Vigneux sur Seine\, 91270\, France
END:VEVENT
BEGIN:VEVENT
DTSTART;TZID=Europe/Helsinki:20251004T140000
DTEND;TZID=Europe/Helsinki:20251004T160000
DTSTAMP:20260425T184223
CREATED:20250910T173817Z
LAST-MODIFIED:20250910T173817Z
UID:17199-1759586400-1759593600@culture-numerique.com
SUMMARY:Atelier "Café IA" sur Inscription
DESCRIPTION:
URL:https://culture-numerique.com/agenda/atelier-cafe-ia-sur-inscription
LOCATION:Culture numerique\, 32 rue Gaston GRINBAUM\, Vigneux sur Seine\, 91270\, France
END:VEVENT
BEGIN:VEVENT
DTSTART;TZID=Europe/Helsinki:20251005T100000
DTEND;TZID=Europe/Helsinki:20251005T120000
DTSTAMP:20260425T184223
CREATED:20250927T184047Z
LAST-MODIFIED:20250927T184047Z
UID:17357-1759658400-1759665600@culture-numerique.com
SUMMARY:Initiation à la robotique sur Arduino Uno Groupe 2
DESCRIPTION:
URL:https://culture-numerique.com/agenda/initiation-a-la-robotique-sur-arduino-uno-groupe-2
LOCATION:Culture numerique\, 32 rue Gaston GRINBAUM\, Vigneux sur Seine\, 91270\, France
ORGANIZER;CN="Thierry":MAILTO:t.belvigne@free.fr
END:VEVENT
BEGIN:VEVENT
DTSTART;TZID=Europe/Helsinki:20251006T183000
DTEND;TZID=Europe/Helsinki:20251006T200000
DTSTAMP:20260425T184223
CREATED:20250910T174445Z
LAST-MODIFIED:20250910T174445Z
UID:17219-1759775400-1759780800@culture-numerique.com
SUMMARY:Initiation à la programmation sur PYTHON
DESCRIPTION:
URL:https://culture-numerique.com/agenda/initiation-a-la-programmation-sur-python-2
LOCATION:Culture numerique\, 32 rue Gaston GRINBAUM\, Vigneux sur Seine\, 91270\, France
END:VEVENT
BEGIN:VEVENT
DTSTART;TZID=Europe/Helsinki:20251006T200000
DTEND;TZID=Europe/Helsinki:20251006T213000
DTSTAMP:20260425T184223
CREATED:20250910T173159Z
LAST-MODIFIED:20250910T173159Z
UID:17179-1759780800-1759786200@culture-numerique.com
SUMMARY:Initiation à la création 3D avec Fusion 360 niveau débutant
DESCRIPTION:
URL:https://culture-numerique.com/agenda/initiation-a-la-creation-3d-avec-fusion-360-niveau-debutant-3
LOCATION:Culture numerique\, 32 rue Gaston GRINBAUM\, Vigneux sur Seine\, 91270\, France
END:VEVENT
BEGIN:VEVENT
DTSTART;TZID=Europe/Helsinki:20251007T183000
DTEND;TZID=Europe/Helsinki:20251007T200000
DTSTAMP:20260425T184223
CREATED:20250910T173414Z
LAST-MODIFIED:20250910T173414Z
UID:17185-1759861800-1759867200@culture-numerique.com
SUMMARY:Initiation à la suite bureautique LibreOffice - CALC Tableur
DESCRIPTION:
URL:https://culture-numerique.com/agenda/initiation-a-la-suite-bureautique-libreoffice-calc-tableur-3
LOCATION:Culture numerique\, 32 rue Gaston GRINBAUM\, Vigneux sur Seine\, 91270\, France
ORGANIZER;CN="Thierry":MAILTO:t.belvigne@free.fr
END:VEVENT
BEGIN:VEVENT
DTSTART;TZID=Europe/Helsinki:20251007T200000
DTEND;TZID=Europe/Helsinki:20251007T213000
DTSTAMP:20260425T184223
CREATED:20250921T150329Z
LAST-MODIFIED:20250921T150329Z
UID:17331-1759867200-1759872600@culture-numerique.com
SUMMARY:Initiation à la création de site Web avec WordPress
DESCRIPTION:
URL:https://culture-numerique.com/agenda/initiation-a-la-creation-de-site-web-avec-wordpress-2
LOCATION:Culture numerique\, 32 rue Gaston GRINBAUM\, Vigneux sur Seine\, 91270\, France
END:VEVENT
BEGIN:VEVENT
DTSTART;TZID=Europe/Helsinki:20251008T140000
DTEND;TZID=Europe/Helsinki:20251008T160000
DTSTAMP:20260425T184223
CREATED:20250910T174135Z
LAST-MODIFIED:20251004T170008Z
UID:17209-1759932000-1759939200@culture-numerique.com
SUMMARY:Atelier d'aide à la recherche généalogique moderne
DESCRIPTION:
URL:https://culture-numerique.com/agenda/atelier-daide-a-la-recherche-genealogique-moderne-3
LOCATION:Culture numerique\, 32 rue Gaston GRINBAUM\, Vigneux sur Seine\, 91270\, France
END:VEVENT
BEGIN:VEVENT
DTSTART;TZID=Europe/Helsinki:20251008T160000
DTEND;TZID=Europe/Helsinki:20251008T180000
DTSTAMP:20260425T184223
CREATED:20250910T174326Z
LAST-MODIFIED:20250910T174326Z
UID:17215-1759939200-1759946400@culture-numerique.com
SUMMARY:Initiation à l'informatique niveau débutant
DESCRIPTION:
URL:https://culture-numerique.com/agenda/initiation-a-linformatique-niveau-debutant-3
LOCATION:Culture numerique\, 32 rue Gaston GRINBAUM\, Vigneux sur Seine\, 91270\, France
END:VEVENT
BEGIN:VEVENT
DTSTART;TZID=Europe/Helsinki:20251008T180000
DTEND;TZID=Europe/Helsinki:20251008T200000
DTSTAMP:20260425T184223
CREATED:20251004T170203Z
LAST-MODIFIED:20251004T170203Z
UID:17376-1759946400-1759953600@culture-numerique.com
SUMMARY:Perfectionnement informatique
DESCRIPTION:
URL:https://culture-numerique.com/agenda/perfectionnement-informatique
LOCATION:Culture numerique\, 32 rue Gaston GRINBAUM\, Vigneux sur Seine\, 91270\, France
END:VEVENT
BEGIN:VEVENT
DTSTART;TZID=Europe/Helsinki:20251008T200000
DTEND;TZID=Europe/Helsinki:20251008T213000
DTSTAMP:20260425T184223
CREATED:20250927T184259Z
LAST-MODIFIED:20250927T184259Z
UID:17361-1759953600-1759959000@culture-numerique.com
SUMMARY:Initiation à Blender 3D débutant
DESCRIPTION:
URL:https://culture-numerique.com/agenda/initiation-a-blender-3d-debutant-2
LOCATION:Culture numerique\, 32 rue Gaston GRINBAUM\, Vigneux sur Seine\, 91270\, France
END:VEVENT
BEGIN:VEVENT
DTSTART;TZID=Europe/Helsinki:20251009T183000
DTEND;TZID=Europe/Helsinki:20251009T200000
DTSTAMP:20260425T184223
CREATED:20250921T150151Z
LAST-MODIFIED:20251002T165557Z
UID:17329-1760034600-1760040000@culture-numerique.com
SUMMARY:Atelier technique photo
DESCRIPTION:
URL:https://culture-numerique.com/agenda/atelier-technique-photo-2
LOCATION:Culture numerique\, 32 rue Gaston GRINBAUM\, Vigneux sur Seine\, 91270\, France
END:VEVENT
BEGIN:VEVENT
DTSTART;TZID=Europe/Helsinki:20251010T183000
DTEND;TZID=Europe/Helsinki:20251010T200000
DTSTAMP:20260425T184223
CREATED:20250910T181722Z
LAST-MODIFIED:20250927T184454Z
UID:17258-1760121000-1760126400@culture-numerique.com
SUMMARY:Atelier technique imprimante 3D
DESCRIPTION:
URL:https://culture-numerique.com/agenda/atelier-technique-imprimante-3d-3
LOCATION:Culture numerique\, 32 rue Gaston GRINBAUM\, Vigneux sur Seine\, 91270\, France
ORGANIZER;CN="Thierry":MAILTO:t.belvigne@free.fr
END:VEVENT
BEGIN:VEVENT
DTSTART;TZID=Europe/Helsinki:20251010T200000
DTEND;TZID=Europe/Helsinki:20251010T213000
DTSTAMP:20260425T184223
CREATED:20250921T150502Z
LAST-MODIFIED:20250921T150502Z
UID:17335-1760126400-1760131800@culture-numerique.com
SUMMARY:Cours electricité/electronique
DESCRIPTION:
URL:https://culture-numerique.com/agenda/cours-electricite-electronique-3
LOCATION:Culture numerique\, 32 rue Gaston GRINBAUM\, Vigneux sur Seine\, 91270\, France
ORGANIZER;CN="Thierry":MAILTO:t.belvigne@free.fr
END:VEVENT
BEGIN:VEVENT
DTSTART;TZID=Europe/Helsinki:20251011T100000
DTEND;TZID=Europe/Helsinki:20251011T120000
DTSTAMP:20260425T184223
CREATED:20250910T175037Z
LAST-MODIFIED:20250927T183958Z
UID:17231-1760176800-1760184000@culture-numerique.com
SUMMARY:Initiation à la robotique sur Arduino Uno Groupe 1
DESCRIPTION:
URL:https://culture-numerique.com/agenda/initiation-a-la-robotique-sur-arduino-uno-3
LOCATION:Culture numerique\, 32 rue Gaston GRINBAUM\, Vigneux sur Seine\, 91270\, France
ORGANIZER;CN="Thierry":MAILTO:t.belvigne@free.fr
END:VEVENT
BEGIN:VEVENT
DTSTART;TZID=Europe/Helsinki:20251011T100000
DTEND;TZID=Europe/Helsinki:20251011T180000
DTSTAMP:20260425T184223
CREATED:20250910T173640Z
LAST-MODIFIED:20250910T173640Z
UID:17193-1760176800-1760205600@culture-numerique.com
SUMMARY:Ouverture FABLAB pour tous - Ateliers créatifs
DESCRIPTION:
URL:https://culture-numerique.com/agenda/ouverture-fablab-pour-tous-ateliers-creatifs-4
LOCATION:Culture numerique\, 32 rue Gaston GRINBAUM\, Vigneux sur Seine\, 91270\, France
END:VEVENT
BEGIN:VEVENT
DTSTART;TZID=Europe/Helsinki:20251012T100000
DTEND;TZID=Europe/Helsinki:20251012T120000
DTSTAMP:20260425T184223
CREATED:20250927T184133Z
LAST-MODIFIED:20250927T184133Z
UID:17359-1760263200-1760270400@culture-numerique.com
SUMMARY:Initiation à la robotique sur Arduino Uno Groupe 2
DESCRIPTION:
URL:https://culture-numerique.com/agenda/initiation-a-la-robotique-sur-arduino-uno-groupe-2-2
LOCATION:Culture numerique\, 32 rue Gaston GRINBAUM\, Vigneux sur Seine\, 91270\, France
ORGANIZER;CN="Thierry":MAILTO:t.belvigne@free.fr
END:VEVENT
BEGIN:VEVENT
DTSTART;TZID=Europe/Helsinki:20251013T183000
DTEND;TZID=Europe/Helsinki:20251013T200000
DTSTAMP:20260425T184223
CREATED:20250910T174515Z
LAST-MODIFIED:20250910T174515Z
UID:17221-1760380200-1760385600@culture-numerique.com
SUMMARY:Initiation à la programmation sur PYTHON
DESCRIPTION:
URL:https://culture-numerique.com/agenda/initiation-a-la-programmation-sur-python-3
LOCATION:Culture numerique\, 32 rue Gaston GRINBAUM\, Vigneux sur Seine\, 91270\, France
END:VEVENT
BEGIN:VEVENT
DTSTART;TZID=Europe/Helsinki:20251013T200000
DTEND;TZID=Europe/Helsinki:20251013T213000
DTSTAMP:20260425T184223
CREATED:20250910T182043Z
LAST-MODIFIED:20250910T182043Z
UID:17265-1760385600-1760391000@culture-numerique.com
SUMMARY:Initiation à la création 3D avec Fusion 360 niveau débutant
DESCRIPTION:
URL:https://culture-numerique.com/agenda/initiation-a-la-creation-3d-avec-fusion-360-niveau-debutant-4
LOCATION:Culture numerique\, 32 rue Gaston GRINBAUM\, Vigneux sur Seine\, 91270\, France
END:VEVENT
BEGIN:VEVENT
DTSTART;TZID=Europe/Helsinki:20251014T183000
DTEND;TZID=Europe/Helsinki:20251014T200000
DTSTAMP:20260425T184223
CREATED:20250910T181933Z
LAST-MODIFIED:20250910T181933Z
UID:17262-1760466600-1760472000@culture-numerique.com
SUMMARY:Initiation à la suite bureautique LibreOffice – CALC Tableur
DESCRIPTION:
URL:https://culture-numerique.com/agenda/initiation-a-la-suite-bureautique-libreoffice-calc-tableur-4
LOCATION:Culture numerique\, 32 rue Gaston GRINBAUM\, Vigneux sur Seine\, 91270\, France
ORGANIZER;CN="Thierry":MAILTO:t.belvigne@free.fr
END:VEVENT
BEGIN:VEVENT
DTSTART;TZID=Europe/Helsinki:20251014T200000
DTEND;TZID=Europe/Helsinki:20251014T213000
DTSTAMP:20260425T184223
CREATED:20250921T150357Z
LAST-MODIFIED:20250921T150357Z
UID:17333-1760472000-1760477400@culture-numerique.com
SUMMARY:Initiation à la création de site Web avec WordPress
DESCRIPTION:
URL:https://culture-numerique.com/agenda/initiation-a-la-creation-de-site-web-avec-wordpress-3
LOCATION:Culture numerique\, 32 rue Gaston GRINBAUM\, Vigneux sur Seine\, 91270\, France
END:VEVENT
BEGIN:VEVENT
DTSTART;TZID=Europe/Helsinki:20251015T140000
DTEND;TZID=Europe/Helsinki:20251015T160000
DTSTAMP:20260425T184223
CREATED:20250910T180438Z
LAST-MODIFIED:20251004T170052Z
UID:17251-1760536800-1760544000@culture-numerique.com
SUMMARY:Atelier d’aide à la recherche généalogique moderne
DESCRIPTION:
URL:https://culture-numerique.com/agenda/atelier-daide-a-la-recherche-genealogique-moderne-4
LOCATION:Culture numerique\, 32 rue Gaston GRINBAUM\, Vigneux sur Seine\, 91270\, France
END:VEVENT
BEGIN:VEVENT
DTSTART;TZID=Europe/Helsinki:20251015T163000
DTEND;TZID=Europe/Helsinki:20251015T180000
DTSTAMP:20260425T184223
CREATED:20250910T174846Z
LAST-MODIFIED:20250910T174846Z
UID:17225-1760545800-1760551200@culture-numerique.com
SUMMARY:Initiation à l’informatique niveau débutant
DESCRIPTION:
URL:https://culture-numerique.com/agenda/initiation-a-linformatique-niveau-debutant-4
LOCATION:Culture numerique\, 32 rue Gaston GRINBAUM\, Vigneux sur Seine\, 91270\, France
END:VEVENT
BEGIN:VEVENT
DTSTART;TZID=Europe/Helsinki:20251015T180000
DTEND;TZID=Europe/Helsinki:20251015T200000
DTSTAMP:20260425T184223
CREATED:20251004T170241Z
LAST-MODIFIED:20251004T170241Z
UID:17378-1760551200-1760558400@culture-numerique.com
SUMMARY:Perfectionnement informatique
DESCRIPTION:
URL:https://culture-numerique.com/agenda/perfectionnement-informatique-2
LOCATION:Culture numerique\, 32 rue Gaston GRINBAUM\, Vigneux sur Seine\, 91270\, France
END:VEVENT
END:VCALENDAR