BEGIN:VCALENDAR
VERSION:2.0
PRODID:-//Association culture numérique - ECPv6.15.20//NONSGML v1.0//EN
CALSCALE:GREGORIAN
METHOD:PUBLISH
X-WR-CALNAME:Association culture numérique
X-ORIGINAL-URL:https://culture-numerique.com
X-WR-CALDESC:Évènements pour Association culture numérique
REFRESH-INTERVAL;VALUE=DURATION:PT1H
X-Robots-Tag:noindex
X-PUBLISHED-TTL:PT1H
BEGIN:VTIMEZONE
TZID:Europe/Helsinki
BEGIN:DAYLIGHT
TZOFFSETFROM:+0200
TZOFFSETTO:+0300
TZNAME:EEST
DTSTART:20240331T010000
END:DAYLIGHT
BEGIN:STANDARD
TZOFFSETFROM:+0300
TZOFFSETTO:+0200
TZNAME:EET
DTSTART:20241027T010000
END:STANDARD
BEGIN:DAYLIGHT
TZOFFSETFROM:+0200
TZOFFSETTO:+0300
TZNAME:EEST
DTSTART:20250330T010000
END:DAYLIGHT
BEGIN:STANDARD
TZOFFSETFROM:+0300
TZOFFSETTO:+0200
TZNAME:EET
DTSTART:20251026T010000
END:STANDARD
BEGIN:DAYLIGHT
TZOFFSETFROM:+0200
TZOFFSETTO:+0300
TZNAME:EEST
DTSTART:20260329T010000
END:DAYLIGHT
BEGIN:STANDARD
TZOFFSETFROM:+0300
TZOFFSETTO:+0200
TZNAME:EET
DTSTART:20261025T010000
END:STANDARD
END:VTIMEZONE
BEGIN:VEVENT
DTSTART;TZID=Europe/Helsinki:20251201T183000
DTEND;TZID=Europe/Helsinki:20251201T200000
DTSTAMP:20260425T133626
CREATED:20251128T130415Z
LAST-MODIFIED:20251128T130415Z
UID:17738-1764613800-1764619200@culture-numerique.com
SUMMARY:Initiation à la programmation sur PYTHON
DESCRIPTION:
URL:https://culture-numerique.com/agenda/initiation-a-la-programmation-sur-python-6
LOCATION:Culture numerique\, 32 rue Gaston GRINBAUM\, Vigneux sur Seine\, 91270\, France
END:VEVENT
BEGIN:VEVENT
DTSTART;TZID=Europe/Helsinki:20251201T200000
DTEND;TZID=Europe/Helsinki:20251201T213000
DTSTAMP:20260425T133626
CREATED:20251128T130610Z
LAST-MODIFIED:20251128T130610Z
UID:17744-1764619200-1764624600@culture-numerique.com
SUMMARY:Initiation à la création 3D avec Fusion 360 niveau débutant
DESCRIPTION:
URL:https://culture-numerique.com/agenda/initiation-a-la-creation-3d-avec-fusion-360-niveau-debutant-9
LOCATION:Culture numerique\, 32 rue Gaston GRINBAUM\, Vigneux sur Seine\, 91270\, France
END:VEVENT
BEGIN:VEVENT
DTSTART;TZID=Europe/Helsinki:20251202T183000
DTEND;TZID=Europe/Helsinki:20251202T200000
DTSTAMP:20260425T133626
CREATED:20251128T130822Z
LAST-MODIFIED:20251128T130822Z
UID:17750-1764700200-1764705600@culture-numerique.com
SUMMARY:Initiation à Libre Office – CALC
DESCRIPTION:
URL:https://culture-numerique.com/agenda/initiation-a-libre-office-calc-4
LOCATION:Culture numerique\, 32 rue Gaston GRINBAUM\, Vigneux sur Seine\, 91270\, France
ORGANIZER;CN="Thierry":MAILTO:t.belvigne@free.fr
END:VEVENT
BEGIN:VEVENT
DTSTART;TZID=Europe/Helsinki:20251202T200000
DTEND;TZID=Europe/Helsinki:20251202T213000
DTSTAMP:20260425T133626
CREATED:20251128T131032Z
LAST-MODIFIED:20251128T131032Z
UID:17756-1764705600-1764711000@culture-numerique.com
SUMMARY:Initiation à la création de site Web sur WordPress
DESCRIPTION:
URL:https://culture-numerique.com/agenda/initiation-a-la-creation-de-site-web-sur-wordpress-3
LOCATION:Culture numerique\, 32 rue Gaston GRINBAUM\, Vigneux sur Seine\, 91270\, France
END:VEVENT
BEGIN:VEVENT
DTSTART;TZID=Europe/Helsinki:20251203T140000
DTEND;TZID=Europe/Helsinki:20251203T160000
DTSTAMP:20260425T133626
CREATED:20251128T131225Z
LAST-MODIFIED:20251128T131225Z
UID:17762-1764770400-1764777600@culture-numerique.com
SUMMARY:Atelier d’aide à la recherche généalogique moderne
DESCRIPTION:
URL:https://culture-numerique.com/agenda/atelier-daide-a-la-recherche-genealogique-moderne-8
LOCATION:Culture numerique\, 32 rue Gaston GRINBAUM\, Vigneux sur Seine\, 91270\, France
END:VEVENT
BEGIN:VEVENT
DTSTART;TZID=Europe/Helsinki:20251203T160000
DTEND;TZID=Europe/Helsinki:20251203T180000
DTSTAMP:20260425T133626
CREATED:20251201T122403Z
LAST-MODIFIED:20251201T122403Z
UID:17818-1764777600-1764784800@culture-numerique.com
SUMMARY:Initiation à l’informatique niveau débutant
DESCRIPTION:
URL:https://culture-numerique.com/agenda/initiation-a-linformatique-niveau-debutant-9
LOCATION:Culture numerique\, 32 rue Gaston GRINBAUM\, Vigneux sur Seine\, 91270\, France
END:VEVENT
BEGIN:VEVENT
DTSTART;TZID=Europe/Helsinki:20251203T180000
DTEND;TZID=Europe/Helsinki:20251203T200000
DTSTAMP:20260425T133626
CREATED:20251128T132411Z
LAST-MODIFIED:20251128T132411Z
UID:17792-1764784800-1764792000@culture-numerique.com
SUMMARY:Initiation à l’informatique niveau perfectionnement
DESCRIPTION:
URL:https://culture-numerique.com/agenda/initiation-a-linformatique-niveau-perfectionnement-6
END:VEVENT
BEGIN:VEVENT
DTSTART;TZID=Europe/Helsinki:20251203T200000
DTEND;TZID=Europe/Helsinki:20251203T213000
DTSTAMP:20260425T133626
CREATED:20251128T132150Z
LAST-MODIFIED:20251128T132150Z
UID:17786-1764792000-1764797400@culture-numerique.com
SUMMARY:Initiation à la 3D cinématique avec Blender
DESCRIPTION:
URL:https://culture-numerique.com/agenda/initiation-a-la-3d-cinematique-avec-blender-5
LOCATION:Culture numerique\, 32 rue Gaston GRINBAUM\, Vigneux sur Seine\, 91270\, France
END:VEVENT
BEGIN:VEVENT
DTSTART;TZID=Europe/Helsinki:20251204T183000
DTEND;TZID=Europe/Helsinki:20251204T200000
DTSTAMP:20260425T133626
CREATED:20251128T131448Z
LAST-MODIFIED:20251128T131448Z
UID:17768-1764873000-1764878400@culture-numerique.com
SUMMARY:Atelier technique photo
DESCRIPTION:
URL:https://culture-numerique.com/agenda/atelier-technique-photo-4
LOCATION:Culture numerique\, 32 rue Gaston GRINBAUM\, Vigneux sur Seine\, 91270\, France
END:VEVENT
BEGIN:VEVENT
DTSTART;TZID=Europe/Helsinki:20251205T200000
DTEND;TZID=Europe/Helsinki:20251205T213000
DTSTAMP:20260425T133626
CREATED:20251128T131832Z
LAST-MODIFIED:20251128T131832Z
UID:17776-1764964800-1764970200@culture-numerique.com
SUMMARY:Cours electricité/electronique
DESCRIPTION:
URL:https://culture-numerique.com/agenda/cours-electricite-electronique-8
LOCATION:Culture numerique\, 32 rue Gaston GRINBAUM\, Vigneux sur Seine\, 91270\, France
ORGANIZER;CN="Thierry":MAILTO:t.belvigne@free.fr
END:VEVENT
BEGIN:VEVENT
DTSTART;TZID=Europe/Helsinki:20251206T100000
DTEND;TZID=Europe/Helsinki:20251206T120000
DTSTAMP:20260425T133626
CREATED:20251102T124020Z
LAST-MODIFIED:20251128T130105Z
UID:17646-1765015200-1765022400@culture-numerique.com
SUMMARY:Initiation à la robotique sur Arduino Uno groupe 1
DESCRIPTION:
URL:https://culture-numerique.com/agenda/initiation-a-la-robotique-sur-arduino-uno-groupe-1-3
LOCATION:Culture numerique\, 32 rue Gaston GRINBAUM\, Vigneux sur Seine\, 91270\, France
ORGANIZER;CN="Thierry":MAILTO:t.belvigne@free.fr
END:VEVENT
BEGIN:VEVENT
DTSTART;TZID=Europe/Helsinki:20251206T100000
DTEND;TZID=Europe/Helsinki:20251206T180000
DTSTAMP:20260425T133626
CREATED:20251128T133316Z
LAST-MODIFIED:20251128T133316Z
UID:17804-1765015200-1765044000@culture-numerique.com
SUMMARY:Atelier “FabLab”
DESCRIPTION:
URL:https://culture-numerique.com/agenda/atelier-fablab-5
LOCATION:Culture numerique\, 32 rue Gaston GRINBAUM\, Vigneux sur Seine\, 91270\, France
END:VEVENT
BEGIN:VEVENT
DTSTART;TZID=Europe/Helsinki:20251206T140000
DTEND;TZID=Europe/Helsinki:20251206T160000
DTSTAMP:20260425T133626
CREATED:20250910T173918Z
LAST-MODIFIED:20250910T173918Z
UID:17203-1765029600-1765036800@culture-numerique.com
SUMMARY:Atelier "Café IA" sur Inscription
DESCRIPTION:
URL:https://culture-numerique.com/agenda/atelier-cafe-ia-sur-inscription-3
LOCATION:Culture numerique\, 32 rue Gaston GRINBAUM\, Vigneux sur Seine\, 91270\, France
END:VEVENT
BEGIN:VEVENT
DTSTART;TZID=Europe/Helsinki:20251206T140000
DTEND;TZID=Europe/Helsinki:20251206T173000
DTSTAMP:20260425T133626
CREATED:20251128T132537Z
LAST-MODIFIED:20251128T132537Z
UID:17794-1765029600-1765042200@culture-numerique.com
SUMMARY:Activité jeux VR pour le Noel au centre social Aimé Cesaire
DESCRIPTION:
URL:https://culture-numerique.com/agenda/activite-jeux-vr-pour-le-noel-au-centre-social-aime-cesaire
END:VEVENT
BEGIN:VEVENT
DTSTART;TZID=Europe/Helsinki:20251206T160000
DTEND;TZID=Europe/Helsinki:20251206T180000
DTSTAMP:20260425T133626
CREATED:20251128T132846Z
LAST-MODIFIED:20251128T132846Z
UID:17798-1765036800-1765044000@culture-numerique.com
SUMMARY:Initiation à la création 3D avec TinkerCad groupe 2
DESCRIPTION:
URL:https://culture-numerique.com/agenda/initiation-a-la-creation-3d-avec-tinkercad-groupe-2-4
LOCATION:Culture numerique\, 32 rue Gaston GRINBAUM\, Vigneux sur Seine\, 91270\, France
END:VEVENT
BEGIN:VEVENT
DTSTART;TZID=Europe/Helsinki:20251207T100000
DTEND;TZID=Europe/Helsinki:20251207T120000
DTSTAMP:20260425T133626
CREATED:20251128T130216Z
LAST-MODIFIED:20251128T130216Z
UID:17734-1765101600-1765108800@culture-numerique.com
SUMMARY:Initiation à la robotique sur Arduino Uno groupe 2
DESCRIPTION:
URL:https://culture-numerique.com/agenda/initiation-a-la-robotique-sur-arduino-uno-groupe-2-6
LOCATION:Culture numerique\, 32 rue Gaston GRINBAUM\, Vigneux sur Seine\, 91270\, France
ORGANIZER;CN="Thierry":MAILTO:t.belvigne@free.fr
END:VEVENT
BEGIN:VEVENT
DTSTART;TZID=Europe/Helsinki:20251208T183000
DTEND;TZID=Europe/Helsinki:20251208T200000
DTSTAMP:20260425T133626
CREATED:20251128T130444Z
LAST-MODIFIED:20251128T130444Z
UID:17740-1765218600-1765224000@culture-numerique.com
SUMMARY:Initiation à la programmation sur PYTHON
DESCRIPTION:
URL:https://culture-numerique.com/agenda/initiation-a-la-programmation-sur-python-7
LOCATION:Culture numerique\, 32 rue Gaston GRINBAUM\, Vigneux sur Seine\, 91270\, France
END:VEVENT
BEGIN:VEVENT
DTSTART;TZID=Europe/Helsinki:20251208T200000
DTEND;TZID=Europe/Helsinki:20251208T213000
DTSTAMP:20260425T133626
CREATED:20251128T130648Z
LAST-MODIFIED:20251128T130648Z
UID:17746-1765224000-1765229400@culture-numerique.com
SUMMARY:Initiation à la création 3D avec Fusion 360 niveau débutant
DESCRIPTION:
URL:https://culture-numerique.com/agenda/initiation-a-la-creation-3d-avec-fusion-360-niveau-debutant-10
LOCATION:Culture numerique\, 32 rue Gaston GRINBAUM\, Vigneux sur Seine\, 91270\, France
END:VEVENT
BEGIN:VEVENT
DTSTART;TZID=Europe/Helsinki:20251209T183000
DTEND;TZID=Europe/Helsinki:20251209T200000
DTSTAMP:20260425T133626
CREATED:20251128T130853Z
LAST-MODIFIED:20251128T130853Z
UID:17752-1765305000-1765310400@culture-numerique.com
SUMMARY:Initiation à Libre Office – CALC
DESCRIPTION:
URL:https://culture-numerique.com/agenda/initiation-a-libre-office-calc-5
LOCATION:Culture numerique\, 32 rue Gaston GRINBAUM\, Vigneux sur Seine\, 91270\, France
ORGANIZER;CN="Thierry":MAILTO:t.belvigne@free.fr
END:VEVENT
BEGIN:VEVENT
DTSTART;TZID=Europe/Helsinki:20251209T200000
DTEND;TZID=Europe/Helsinki:20251209T213000
DTSTAMP:20260425T133626
CREATED:20251128T131059Z
LAST-MODIFIED:20251128T131059Z
UID:17758-1765310400-1765315800@culture-numerique.com
SUMMARY:Initiation à la création de site Web sur WordPress
DESCRIPTION:
URL:https://culture-numerique.com/agenda/initiation-a-la-creation-de-site-web-sur-wordpress-6
LOCATION:Culture numerique\, 32 rue Gaston GRINBAUM\, Vigneux sur Seine\, 91270\, France
END:VEVENT
BEGIN:VEVENT
DTSTART;TZID=Europe/Helsinki:20251210T140000
DTEND;TZID=Europe/Helsinki:20251210T160000
DTSTAMP:20260425T133626
CREATED:20251128T131304Z
LAST-MODIFIED:20251128T131304Z
UID:17764-1765375200-1765382400@culture-numerique.com
SUMMARY:Atelier d’aide à la recherche généalogique moderne
DESCRIPTION:
URL:https://culture-numerique.com/agenda/atelier-daide-a-la-recherche-genealogique-moderne-9
LOCATION:Culture numerique\, 32 rue Gaston GRINBAUM\, Vigneux sur Seine\, 91270\, France
END:VEVENT
BEGIN:VEVENT
DTSTART;TZID=Europe/Helsinki:20251210T160000
DTEND;TZID=Europe/Helsinki:20251210T180000
DTSTAMP:20260425T133626
CREATED:20251201T122433Z
LAST-MODIFIED:20251201T122433Z
UID:17820-1765382400-1765389600@culture-numerique.com
SUMMARY:Initiation à l’informatique niveau débutant
DESCRIPTION:
URL:https://culture-numerique.com/agenda/initiation-a-linformatique-niveau-debutant-10
LOCATION:Culture numerique\, 32 rue Gaston GRINBAUM\, Vigneux sur Seine\, 91270\, France
END:VEVENT
BEGIN:VEVENT
DTSTART;TZID=Europe/Helsinki:20251210T180000
DTEND;TZID=Europe/Helsinki:20251210T200000
DTSTAMP:20260425T133626
CREATED:20251128T132025Z
LAST-MODIFIED:20251128T132025Z
UID:17782-1765389600-1765396800@culture-numerique.com
SUMMARY:Initiation à l’informatique niveau perfectionnement
DESCRIPTION:
URL:https://culture-numerique.com/agenda/initiation-a-linformatique-niveau-perfectionnement-4
LOCATION:Culture numerique\, 32 rue Gaston GRINBAUM\, Vigneux sur Seine\, 91270\, France
END:VEVENT
BEGIN:VEVENT
DTSTART;TZID=Europe/Helsinki:20251210T200000
DTEND;TZID=Europe/Helsinki:20251210T213000
DTSTAMP:20260425T133626
CREATED:20251128T132220Z
LAST-MODIFIED:20251128T132220Z
UID:17788-1765396800-1765402200@culture-numerique.com
SUMMARY:Initiation à la 3D cinématique avec Blender
DESCRIPTION:
URL:https://culture-numerique.com/agenda/initiation-a-la-3d-cinematique-avec-blender-6
LOCATION:Culture numerique\, 32 rue Gaston GRINBAUM\, Vigneux sur Seine\, 91270\, France
END:VEVENT
BEGIN:VEVENT
DTSTART;TZID=Europe/Helsinki:20251211T183000
DTEND;TZID=Europe/Helsinki:20251211T200000
DTSTAMP:20260425T133626
CREATED:20251128T131517Z
LAST-MODIFIED:20251128T131517Z
UID:17770-1765477800-1765483200@culture-numerique.com
SUMMARY:Atelier technique photo
DESCRIPTION:
URL:https://culture-numerique.com/agenda/atelier-technique-photo-7
LOCATION:Culture numerique\, 32 rue Gaston GRINBAUM\, Vigneux sur Seine\, 91270\, France
END:VEVENT
BEGIN:VEVENT
DTSTART;TZID=Europe/Helsinki:20251212T200000
DTEND;TZID=Europe/Helsinki:20251212T213000
DTSTAMP:20260425T133626
CREATED:20251128T131907Z
LAST-MODIFIED:20251128T131907Z
UID:17778-1765569600-1765575000@culture-numerique.com
SUMMARY:Cours electricité/electronique
DESCRIPTION:
URL:https://culture-numerique.com/agenda/cours-electricite-electronique-9
LOCATION:Culture numerique\, 32 rue Gaston GRINBAUM\, Vigneux sur Seine\, 91270\, France
ORGANIZER;CN="Thierry":MAILTO:t.belvigne@free.fr
END:VEVENT
BEGIN:VEVENT
DTSTART;TZID=Europe/Helsinki:20251213T100000
DTEND;TZID=Europe/Helsinki:20251213T120000
DTSTAMP:20260425T133626
CREATED:20251128T130139Z
LAST-MODIFIED:20251128T130139Z
UID:17732-1765620000-1765627200@culture-numerique.com
SUMMARY:Initiation à la robotique sur Arduino Uno groupe 1
DESCRIPTION:
URL:https://culture-numerique.com/agenda/initiation-a-la-robotique-sur-arduino-uno-groupe-1
LOCATION:Culture numerique\, 32 rue Gaston GRINBAUM\, Vigneux sur Seine\, 91270\, France
ORGANIZER;CN="Thierry":MAILTO:t.belvigne@free.fr
END:VEVENT
BEGIN:VEVENT
DTSTART;TZID=Europe/Helsinki:20251213T100000
DTEND;TZID=Europe/Helsinki:20251213T180000
DTSTAMP:20260425T133626
CREATED:20251128T133345Z
LAST-MODIFIED:20251128T133345Z
UID:17806-1765620000-1765648800@culture-numerique.com
SUMMARY:Atelier “FabLab”
DESCRIPTION:
URL:https://culture-numerique.com/agenda/atelier-fablab-6
LOCATION:Culture numerique\, 32 rue Gaston GRINBAUM\, Vigneux sur Seine\, 91270\, France
END:VEVENT
BEGIN:VEVENT
DTSTART;TZID=Europe/Helsinki:20251213T140000
DTEND;TZID=Europe/Helsinki:20251213T160000
DTSTAMP:20260425T133626
CREATED:20251128T132954Z
LAST-MODIFIED:20251128T132954Z
UID:17802-1765634400-1765641600@culture-numerique.com
SUMMARY:Initiation à la création 3D avec TinkerCad groupe 1
DESCRIPTION:
URL:https://culture-numerique.com/agenda/initiation-a-la-creation-3d-avec-tinkercad-groupe-1
LOCATION:Culture numerique\, 32 rue Gaston GRINBAUM\, Vigneux sur Seine\, 91270\, France
END:VEVENT
BEGIN:VEVENT
DTSTART;TZID=Europe/Helsinki:20251213T140000
DTEND;TZID=Europe/Helsinki:20251213T170000
DTSTAMP:20260425T133626
CREATED:20251128T132635Z
LAST-MODIFIED:20251128T132635Z
UID:17796-1765634400-1765645200@culture-numerique.com
SUMMARY:Activité jeux VR pour le Noel au centre social des bergeries à L'escale"
DESCRIPTION:
URL:https://culture-numerique.com/agenda/activite-jeux-vr-pour-le-noel-au-centre-social-des-bergeries-a-lescale
LOCATION:Culture numerique\, 32 rue Gaston GRINBAUM\, Vigneux sur Seine\, 91270\, France
ORGANIZER;CN="Thierry":MAILTO:t.belvigne@free.fr
END:VEVENT
END:VCALENDAR